BEGIN:VCALENDAR
VERSION:2.0
PRODID:-//Al-Jaafaria Shia Islamic Centre - ECPv4.8.0.1//NONSGML v1.0//EN
CALSCALE:GREGORIAN
METHOD:PUBLISH
X-WR-CALNAME:Al-Jaafaria Shia Islamic Centre
X-ORIGINAL-URL:https://www.aljaafaria.com.au
X-WR-CALDESC:Events for Al-Jaafaria Shia Islamic Centre
BEGIN:VEVENT
DTSTART;VALUE=DATE:20190307
DTEND;VALUE=DATE:20190308
DTSTAMP:20190228T100232
CREATED:20181122T103004Z
LAST-MODIFIED:20181122T103004Z
UID:1285-1551916800-1552003199@www.aljaafaria.com.au
SUMMARY:Birth of Imam Al-Baqir (as) & Imam Al-Hadi (as)
DESCRIPTION:
URL:https://www.aljaafaria.com.au/event/birth-of-imam-al-baqir-as-imam-al-hadi-as/
END:VEVENT
END:VCALENDAR